BEGIN:VCALENDAR
VERSION:2.0
PRODID:-//jEvents 2.0 for Joomla//EN
CALSCALE:GREGORIAN
METHOD:PUBLISH
BEGIN:VTIMEZONE
TZID:Europe/London
BEGIN:STANDARD
DTSTART:20150105T190000
RDATE:20150329T020000
TZOFFSETFROM:+0100
TZOFFSETTO:+0000
TZNAME:Europe/London GMT
END:STANDARD
BEGIN:STANDARD
DTSTART:20151025T010000
RDATE:20160327T020000
TZOFFSETFROM:+0100
TZOFFSETTO:+0000
TZNAME:Europe/London GMT
END:STANDARD
BEGIN:STANDARD
DTSTART:20161030T010000
RDATE:20170326T020000
TZOFFSETFROM:+0100
TZOFFSETTO:+0000
TZNAME:Europe/London GMT
END:STANDARD
BEGIN:STANDARD
DTSTART:20171029T010000
RDATE:20180325T020000
TZOFFSETFROM:+0100
TZOFFSETTO:+0000
TZNAME:Europe/London GMT
END:STANDARD
BEGIN:STANDARD
DTSTART:20181028T010000
RDATE:20190331T020000
TZOFFSETFROM:+0100
TZOFFSETTO:+0000
TZNAME:Europe/London GMT
END:STANDARD
BEGIN:STANDARD
DTSTART:20191027T010000
RDATE:20200329T020000
TZOFFSETFROM:+0100
TZOFFSETTO:+0000
TZNAME:Europe/London GMT
END:STANDARD
BEGIN:STANDARD
DTSTART:20201025T010000
RDATE:20210328T020000
TZOFFSETFROM:+0100
TZOFFSETTO:+0000
TZNAME:Europe/London GMT
END:STANDARD
BEGIN:DAYLIGHT
DTSTART:20150329T020000
RDATE:20151025T010000
TZOFFSETFROM:+0000
TZOFFSETTO:+0100
TZNAME:Europe/London BST
END:DAYLIGHT
BEGIN:DAYLIGHT
DTSTART:20160327T020000
RDATE:20161030T010000
TZOFFSETFROM:+0000
TZOFFSETTO:+0100
TZNAME:Europe/London BST
END:DAYLIGHT
BEGIN:DAYLIGHT
DTSTART:20170326T020000
RDATE:20171029T010000
TZOFFSETFROM:+0000
TZOFFSETTO:+0100
TZNAME:Europe/London BST
END:DAYLIGHT
BEGIN:DAYLIGHT
DTSTART:20180325T020000
RDATE:20181028T010000
TZOFFSETFROM:+0000
TZOFFSETTO:+0100
TZNAME:Europe/London BST
END:DAYLIGHT
BEGIN:DAYLIGHT
DTSTART:20190331T020000
RDATE:20191027T010000
TZOFFSETFROM:+0000
TZOFFSETTO:+0100
TZNAME:Europe/London BST
END:DAYLIGHT
BEGIN:DAYLIGHT
DTSTART:20200329T020000
RDATE:20201025T010000
TZOFFSETFROM:+0000
TZOFFSETTO:+0100
TZNAME:Europe/London BST
END:DAYLIGHT
END:VTIMEZONE
BEGIN:VEVENT
UID:8a208f83971d1444b30d715ebb4ce3b9
CATEGORIES:Regular events
SUMMARY:Fellowship Group / Bible study
LOCATION:1st floor, 124 Stewartstown Road, Belfast, BT11 9JQ
DESCRIPTION;ENCODING=QUOTED-PRINTABLE:			\n\nFellowship groups are an essential part of church life, offering an 
 opportunity for interactive discussion-based Bible study, prayer and mututa
 l encouragement within a small group.\n\n\nFellowship groups complement Sun
 day worship services (which are more focused on singing praise, hearing God
 's Word preached, children's ministry, and celebrating the Lord's Table tog
 ether). Being able to take part in either a fellowship group or Sunday serv
 ices is a blessing. Yet, being part of both provides a wide range of blessi
 ng - it can be compared to having a balanced diet, or a well-rounded or hol
 istic approach to ministry. \n\n\nWhere practical, everyone is encouraged t
 o take part in a midweek group, whether the more public group on Wednesday 
 evenings at 124 Stewartstown Road, or other groups at other times and place
 s.\n\n\nEveryone is welcome to the Wednesday evening Fellowship Group at 12
 4 Stewartstown Road, starting 7pm. We have easy to read Bibles available. N
 o prior Bible knowledge is needed, and you can be as interactive as you lik
 e, or just attend without having to speak.\n 								 
CONTACT:Contact details on the 'Contact Us' page.
DTSTAMP:20171103T181140Z
DTSTART;TZID=Europe/London:20160106T190000
DTEND;TZID=Europe/London:20160106T210000
SEQUENCE:0
TRANSP:OPAQUE
END:VEVENT
END:VCALENDAR